BEGIN:VCALENDAR
VERSION:2.0
PRODID:icalendar-ruby
CALSCALE:GREGORIAN
METHOD:PUBLISH
BEGIN:VEVENT
DTSTAMP:20260424T011513Z
UID:1107-341080@nspeidiocese.ca
DTSTART:20260923T170000Z
DTEND:20260923T190000Z
CLASS:PUBLIC
CREATED:20260423T221152
DESCRIPTION:Looking for a midweek pick-me-up? Drop by St. James Anglican Ch
 urch for an afternoon of fun\, friendship\, and refreshments at James Game
 s &amp\; Café!\nEvery Wednesday\, 2:00–4:00 PM\nSt. James Anglican Chur
 ch\, “The Yellow Church\,” Boutiliers Point\nBring your own cards\, bo
 ard games\, or join in on the ones provided — there’s always laughter\
 , good company\, and a fresh pot of coffee waiting.\nAll are welcome — c
 ome play\, chat\, and unwind in a relaxed and friendly space!
LAST-MODIFIED:20260423T221152
LOCATION:6991 St. Margarets Bay Rd.\, Boutiliers Point
SUMMARY:James Games & Cafe
URL;VALUE=URI:https://www.nspeidiocese.ca/events/james-games-cafe/2026-09-2
 3
ATTACH;FILENAME=James Games Invitation Red.jpg;FMTTYPE=image/jpeg:https://d
 q5pwpg1q8ru0.cloudfront.net/2025/11/05/17/51/22/e6d403e6-3cb0-419d-89f5-1c
 c48f829b91/James%20Games%20Invitation%20Red.jpg
END:VEVENT
END:VCALENDAR
